BEGIN:VCALENDAR
VERSION:2.0
PRODID:http://www.katholisch-nk.de
BEGIN:VEVENT
UID:70f1e8f3-1dc9-11f1-8342-0242ac11002b-1777046400000-de
DTSTAMP:20260312T041044Z
DTSTART:20260424T160000Z
DTEND:20260424T164500Z
SUMMARY;LANGUAGE=de:Messe für die Verstorbenen des vergangenen Monats
END:VEVENT
END:VCALENDAR
