BEGIN:VCALENDAR
VERSION:2.0
PRODID:http://www.katholisch-nk.de
BEGIN:VEVENT
UID:2b7d0335-3df9-11f1-a3e9-0242ac11002b-1785394800000-de
DTSTAMP:20260422T031301Z
DTSTART:20260730T070000Z
DTEND:20260730T080000Z
SUMMARY;LANGUAGE=de:Hl. Messe, mitgestaltet von der KFD-Frauengemeinschaft
END:VEVENT
END:VCALENDAR
